BEGIN:VCALENDAR
VERSION:2.0
PRODID:-//Tukios.com/
BEGIN:VEVENT
UID:90ce6692-201e-4502-b74a-e69c936bc684@www.schmidtfunerals.com
DTSTAMP:20260424T222543Z
DTSTART:20260509T200000Z
DTEND:20260509T220000Z
SUMMARY:Celebration of Life
DESCRIPTION:
URL:https://www.schmidtfunerals.com/obituaries/curtis-ford-jr
LOCATION:The Ford Residence 6106 Waak Road  Bellville TX 77418
GEO:29.9539906;-96.1845059
END:VEVENT
END:VCALENDAR