BEGIN:VCALENDAR
VERSION:2.0
PRODID:-//Tukios.com/
BEGIN:VEVENT
UID:a5049203-dc21-49a0-8a19-80bb85a2cb00@www.schmidtfunerals.com
DTSTAMP:20260420T164006Z
DTSTART:20260501T150000Z
DTEND:20260501T160000Z
SUMMARY:Celebration of Life
DESCRIPTION:
URL:https://www.schmidtfunerals.com/obituaries/hector-martinez
LOCATION: 106 Waller Avenue  Brookshire TX 77423
GEO:29.7816759;-95.9519115
END:VEVENT
END:VCALENDAR