BEGIN:VCALENDAR
VERSION:2.0
PRODID:-//Tukios.com/
BEGIN:VEVENT
UID:f8733879-76fe-4c08-bd08-498c84b0f486@www.schmidtfunerals.com
DTSTAMP:20260420T164714Z
DTSTART:20260501T200000Z
DTEND:20260501T210000Z
SUMMARY:Inurnment
DESCRIPTION:
URL:https://www.schmidtfunerals.com/obituaries/hector-martinez
LOCATION: 12800 Westheimer Road  Houston TX 77077
GEO:29.7375712;-95.6115975
END:VEVENT
END:VCALENDAR