BEGIN:VCALENDAR
VERSION:2.0
PRODID:-//Tukios.com/
BEGIN:VEVENT
UID:9f6e270d-2f55-4fe8-bc0e-6122c337ca38@www.schmidtfunerals.com
DTSTAMP:20260421T004948Z
DTSTART:20260424T190000Z
DTEND:20260424T210000Z
SUMMARY:Memorial Service
DESCRIPTION:
URL:https://www.schmidtfunerals.com/obituaries/manuel-quintero-sr
LOCATION: 819 Waller Ave, PO Box 248  Brookshire TX 77423
GEO:29.7849353;-95.9515812
END:VEVENT
END:VCALENDAR